BEGIN:VCALENDAR
VERSION:2.0
PRODID:-//AfricaLics - ECPv6.15.20//NONSGML v1.0//EN
CALSCALE:GREGORIAN
METHOD:PUBLISH
X-WR-CALNAME:AfricaLics
X-ORIGINAL-URL:https://africalics.org
X-WR-CALDESC:Events for AfricaLics
REFRESH-INTERVAL;VALUE=DURATION:PT1H
X-Robots-Tag:noindex
X-PUBLISHED-TTL:PT1H
BEGIN:VTIMEZONE
TZID:Africa/Nairobi
BEGIN:STANDARD
TZOFFSETFROM:+0300
TZOFFSETTO:+0300
TZNAME:EAT
DTSTART:20240101T000000
END:STANDARD
END:VTIMEZONE
BEGIN:VEVENT
DTSTART;TZID=Africa/Nairobi:20250410T160000
DTEND;TZID=Africa/Nairobi:20250410T173000
DTSTAMP:20260424T142349
CREATED:20250324T041449Z
LAST-MODIFIED:20250407T055650Z
UID:4305-1744300800-1744306200@africalics.org
SUMMARY:Unlocking the Potential of Green Charcoal Innovations to Mitigate Climate Change in Northern Uganda.
DESCRIPTION:Cooking energy needs of more than half of Africa’s population is currently met by wood fuel in form of firewood and charcoal. This poses health risks\, particularly to women and children involved in collecting and using the energy\, and the resultant deforestation leads to serious environmental impacts including climate change. Green charcoal briquettes made from agricultural residues is a promising alternative for fuelwood and wood-based charcoal\, but its use remains low. The UPCHAIN Project takes up this challenge by focusing on specific aspects of the green charcoal value chain transition based on local production\, marketing\, unlocking cultural and technical barriers/drivers for the adoption of agricultural residue-based briquett \nThe guiding research question is: How to develop inclusive innovation models for the adoption of green charcoal that would lead to changes in social practices thereby supporting climate change mitigation and reduce deforestation related to fuel use for cooking in the sub-Saharan region? To fully understand the complexity of the transformation process as a change in practices\, we are inspired by the concept of ‘expansive learning’ which emphasises change as a socio-cultural and socio-technical process\, driven by the tensions and contradictions in the activity systems of green charcoal production and use. The project experimental sites are located in Gulu City\, Pabbo Town Council\, and in Refugees Settlements in Adjumani District. The sites were purposively selected to cater for diverse participants including urban\, peri-urban and rural lifestyles. The uniqueness of this project is the establishment of the Pabbo Living LAB\, under a tripartite collaboration based on the Triple Helix Model. \nThe keynote will address: i) An overview of the UPCHAIN research case\, focusing on changing practices\, expansive learning\, and participatory approaches and inclusive innovation; ii) Household gender relations in cooking\, considering the green charcoal innovation as an alternative to wood fuel in northern Uganda; iii) Green charcoal production from agricultural residues as a sustainable energy resources with inclusive technologies; iv) Comparing livelihood strategies grounded in different green charcoal production models in Uganda; iv) Innovating curriculum in schools as springboards for sustainable green charcoal adoption; and v) A draft inclusive innovation model for green charcoal adoption. \nKeywords: Inclusive innovation; Green Charcoal; Living Lab; UPCHAIN \n\nSpeakers \n\n\n\n \nCollins Okello\n \nGeoffrey Olok Tabo\n\n\n\nProject team members**[1] \n\nAgatha Alidri\nElizabeth Auma Opiyo\nFrancis Atube\nCharles Okumu\nJohn Okumu Bismarck\nGeoffrey Openy\nArne Remmen\nIben Jensen\nHanne O. Mogensen\nQuentin Gausset\nKevin Aber\nFredrick Amanyire\nJudith Awacorach\nChristine Aoyo\nDamasco Okettayot\nHildah Acan\nLone Dirckinck-Holmfeld\n\n\n\nHow to register \n\n\n\n\nIf you are interested in attending the webinar\, please register via this link or get in touch with Ms. Yvonne Gitu at Y.Gitu@acts-net.org for more details. \nAfter registering\, you will receive a confirmation email from AfricaLics Zoom account containing information about joining the webinar. Please ensure you add the invitation to your calendar. \n\n\n\n\n \n\n \n\n[1] *Gulu University\, Uganda\, **Aalborg University\, Denmark\, ***University of Copenhagen
URL:https://africalics.org/event/unlocking-the-potential-of-green-charcoal-innovations-to-mitigate-climate-change-in-northern-uganda/
LOCATION:Online via Zoom\, Kenya
CATEGORIES:Virtual Events,Webinar Series
ATTACH;FMTTYPE=image/webp:https://africalics.org/wp-content/uploads/Skaermbillede-2025-04-02-kl.-14.27.52-e1744015302474.webp
ORGANIZER;CN="AfricaLics Secretariat":MAILTO:secretariat@africalics.org
END:VEVENT
END:VCALENDAR