BEGIN:VCALENDAR
VERSION:2.0
PRODID:-//AfricaLics - ECPv6.15.20//NONSGML v1.0//EN
CALSCALE:GREGORIAN
METHOD:PUBLISH
X-WR-CALNAME:AfricaLics
X-ORIGINAL-URL:https://africalics.org
X-WR-CALDESC:Events for AfricaLics
REFRESH-INTERVAL;VALUE=DURATION:PT1H
X-Robots-Tag:noindex
X-PUBLISHED-TTL:PT1H
BEGIN:VTIMEZONE
TZID:Africa/Nairobi
BEGIN:STANDARD
TZOFFSETFROM:+0300
TZOFFSETTO:+0300
TZNAME:EAT
DTSTART:20230101T000000
END:STANDARD
END:VTIMEZONE
BEGIN:VEVENT
DTSTART;TZID=Africa/Nairobi:20240606T160000
DTEND;TZID=Africa/Nairobi:20240606T173000
DTSTAMP:20260425T055123
CREATED:20240531T064442Z
LAST-MODIFIED:20240531T074142Z
UID:3444-1717689600-1717695000@africalics.org
SUMMARY:Sustainable Agrifood Systems Transformation in Africa – A Mission Orientated Agricultural Innovation System Perspective
DESCRIPTION:Smallholder dominated agrifood systems in sub-Sahara Africa\, like other developing regions are at a transformative crossroad shaped by multiple\, interacting social\, environmental\, and economic challenges. These include persisting food and nutrition insecurity coupled with food waste and loss\, effects of climate change induced extreme weather\, biodiversity loss\, global threats like conflict and economic crises that have exposed the vulnerability of these food systems. \nTo support agrifood system transformation to simultaneously addresses these challenges requires coupling technological\, social\, and institutional dimensions. While the agricultural innovation systems lens has been applied to interrogate and guide food systems innovation\, persistent and emerging challenges calls for a rethink.  Considering the urgency to transform food systems\, we reflect on how a mission orientation perspective orientation (Mazzucato\, 2018\, Klerkx and Begemann\, 2020) offers new insights to shape innovation processes. We apply this to the problem of food loss and waste in the Kenyan context\, anchoring it on the ongoing initiative under the African Centre of Excellence in Sustainable Cooling (ACES) to system innovate sustainable cooling and cold chain to smallholder farming system in a warming world. \nSpeaker \n\nDr. Catherine Kilelu\, Director\, Communication\, Outreach and Partnerships at the African Centre for Technology Studies (ACTS).  Dr. Kilelu received a PhD in Social Sciences from Wageningen University with her thesis focusing on the role of innovation support for inclusive smallholder commercialization. She has vast experience in Research for Development\, having worked at the International Development Research Centre (IDRC)\, International Livestock Research Institute (ILRI) and as a Consultant. \nHer research interests are in agri-food systems innovation and transitions mainly in sub-Saharan Africa linked to sustainability\, competitiveness\, employment creation and resilient livelihoods and on circular bio-economy. Dr. Kilelu has numerous publications in international peer reviewed journals and book chapters related to these themes. \n\n\nHow to register \n\n\n\n\nIf you are interested in attending the webinar\, please register via this link or get in touch with Ms. Yvonne Gitu at Y.Gitu@acts-net.org for more details. \nAfter registering\, you will receive a confirmation email from AfricaLics Zoom account containing information about joining the webinar. Please ensure you add the invitation to your calendar.
URL:https://africalics.org/event/sustainable-agrifood-systems-transformation-in-africa/
LOCATION:Online via Zoom\, Kenya
CATEGORIES:Virtual Events,Webinar Series
ORGANIZER;CN="AfricaLics Secretariat":MAILTO:secretariat@africalics.org
END:VEVENT
END:VCALENDAR