BEGIN:VCALENDAR
VERSION:2.0
PRODID:-//AfricaLics - ECPv6.15.20//NONSGML v1.0//EN
CALSCALE:GREGORIAN
METHOD:PUBLISH
X-WR-CALNAME:AfricaLics
X-ORIGINAL-URL:https://africalics.org
X-WR-CALDESC:Events for AfricaLics
REFRESH-INTERVAL;VALUE=DURATION:PT1H
X-Robots-Tag:noindex
X-PUBLISHED-TTL:PT1H
BEGIN:VTIMEZONE
TZID:Africa/Nairobi
BEGIN:STANDARD
TZOFFSETFROM:+0300
TZOFFSETTO:+0300
TZNAME:EAT
DTSTART:20240101T000000
END:STANDARD
END:VTIMEZONE
BEGIN:VEVENT
DTSTART;TZID=Africa/Nairobi:20250904T160000
DTEND;TZID=Africa/Nairobi:20250904T173000
DTSTAMP:20260424T044310
CREATED:20250828T054237Z
LAST-MODIFIED:20250903T195032Z
UID:4822-1757001600-1757007000@africalics.org
SUMMARY:Innovation Moving South: Globelics at Twenty
DESCRIPTION:We wish to inform you that the webinar originally scheduled for Thursday 4th September 2025\, has been postponed. The new date will be communicated to you in due course. We sincerely apologise for any inconvenience this may cause and thank you for your understanding. \n\nOver the past 20 years\, the Global Network on the Economics of Learning\, Innovation\, and Competency Building Systems (Globelics) has significantly enriched and reshaped the field of innovation studies. On the occasion of its 20th anniversary\, this paper reviews the accomplishments of the Globelics network\, points to limitations of past research\, and speculates on future directions. The network has broadened the scope of the field of innovation studies to include the Global South and explored topics and concepts where the South provides a distinctive view. Globelics scholars have pursued both catch-up and build-up approaches to development; brought actors from the margins into the understanding of innovation; and woven the complexity of sustainability into thinking about the dynamics of innovation. The future research agenda includes analyzing the multiple pathways to development\, developing concepts at the global level\, moving beyond case studies and applying complex modelling to understanding system dynamics. \nSpeakers \n\nErika Kraemer-Mbula\, University of Johannesburg\, Johannesburg\, South Africa\nSusan Cozzens\, Georgia Institute of Technology\, Atlanta\, Georgia\, USA\nMichiko Iizuka\, National Graduate Institute for Policy Studies\, Tokyo\, Japan\nRasmus Lema\, University of Johannesburg\, Johannesburg\, South Africa\nMarina Szapira\, Federal University of Rio de Janeiro\, Rio de Janeiro\, Brazil\nAndrew Cummings\, Latin American Faculty in Social Sciences (FLASCO)\, El Salvador\n\n\nHow to register \n\nIf you are interested in attending the webinar\, please register via this link or get in touch with Yvonne Gitu at Y.Gitu@acts-net.org for more details. \nAfter registering\, you will receive a confirmation email from AfricaLics Zoom account containing information about joining the webinar. Please ensure you add the invitation to your calendar.
URL:https://africalics.org/event/innovation-moving-south-globelics-at-twenty/
LOCATION:Online via Zoom\, Kenya
CATEGORIES:Virtual Events,Webinar Series
ORGANIZER;CN="AfricaLics Secretariat":MAILTO:secretariat@africalics.org
END:VEVENT
END:VCALENDAR