BEGIN:VCALENDAR
VERSION:2.0
PRODID:-//AfricaLics - ECPv6.15.20//NONSGML v1.0//EN
CALSCALE:GREGORIAN
METHOD:PUBLISH
X-ORIGINAL-URL:https://africalics.org
X-WR-CALDESC:Events for AfricaLics
REFRESH-INTERVAL;VALUE=DURATION:PT1H
X-Robots-Tag:noindex
X-PUBLISHED-TTL:PT1H
BEGIN:VTIMEZONE
TZID:UTC
BEGIN:STANDARD
TZOFFSETFROM:+0000
TZOFFSETTO:+0000
TZNAME:UTC
DTSTART:20240101T000000
END:STANDARD
END:VTIMEZONE
BEGIN:VEVENT
DTSTART;TZID=UTC:20250306T160000
DTEND;TZID=UTC:20250306T173000
DTSTAMP:20260424T143020
CREATED:20250211T033549Z
LAST-MODIFIED:20250211T034831Z
UID:4041-1741276800-1741282200@africalics.org
SUMMARY:Leveraging Innovation and Global Value Chains Participation for Industrialisation: An Agenda for Research in Africa
DESCRIPTION:This webinar examines the intricate relationship between innovation and Global Value Chain (GVC) participation\, with a focus on Africa’s growing integration into global networks. It highlights the pivotal role of National Innovation Systems (NIS) in fostering technological advancement and the potential of GVCs to drive industrialisation across the continent. Despite challenges such as limited research and development (R&D) infrastructure\, insufficient financing\, and gaps in human capital\, the study identifies opportunities for African nations to harness innovation to improve GVC participation and leverage GVCs for industrial growth. \nDrawing on a systematic review of existing literature\, the paper explores key themes at the intersection of innovation\, GVCs\, and industrialisation. It emphasises the importance of efforts from both governments and firms to achieve successful GVC integration. Strategic government interventions\, such as coherent industrial policies and investments in high-quality infrastructure\, are considered essential\, while African firms are encouraged to adopt proactive approaches\, including technology upgrades and export-oriented strategies\, to enhance their competitiveness in global markets. The paper further advocates for cross-border collaboration and regional integration to strengthen innovation capabilities and support sustained economic development. Finally\, it identifies priority areas for further research on innovation and GVC integration in Africa. \nKeywords: Proactive innovation\, Reactive innovation\, Global Value Chains (GVCs)\, Industrialisation\, Development\, Research agenda\, Africa. \nSpeaker \n\nProf. Oluseye Jegede \nDHET-NRF SARChI Entrepreneurship Education\, Department of Business Management\, School of Management\, College of Business and Economics\, University of Johannesburg\, South Africa. \n  \n\n  \nHow to register \n\n\n\n\nIf you are interested in attending the webinar\, please register via this link or get in touch with Ms. Yvonne Gitu at Y.Gitu@acts-net.org for more details. \nAfter registering\, you will receive a confirmation email from AfricaLics Zoom account containing information about joining the webinar. Please ensure you add the invitation to your calendar.
URL:https://africalics.org/event/leveraging-innovation-and-global-value-chains-participation-for-industrialisation-an-agenda-for-research-in-africa/
LOCATION:Online via Zoom\, Kenya
CATEGORIES:Virtual Events,Webinar Series
ORGANIZER;CN="AfricaLics Secretariat":MAILTO:secretariat@africalics.org
END:VEVENT
END:VCALENDAR