BEGIN:VCALENDAR
VERSION:2.0
PRODID:-//AfricaLics - ECPv6.15.20//NONSGML v1.0//EN
CALSCALE:GREGORIAN
METHOD:PUBLISH
X-ORIGINAL-URL:https://africalics.org
X-WR-CALDESC:Events for AfricaLics
REFRESH-INTERVAL;VALUE=DURATION:PT1H
X-Robots-Tag:noindex
X-PUBLISHED-TTL:PT1H
BEGIN:VTIMEZONE
TZID:Africa/Nairobi
BEGIN:STANDARD
TZOFFSETFROM:+0300
TZOFFSETTO:+0300
TZNAME:EAT
DTSTART:20230101T000000
END:STANDARD
END:VTIMEZONE
BEGIN:VEVENT
DTSTART;TZID=Africa/Nairobi:20241213T160000
DTEND;TZID=Africa/Nairobi:20241213T173000
DTSTAMP:20260424T190218
CREATED:20241210T122822Z
LAST-MODIFIED:20241210T123108Z
UID:3985-1734105600-1734111000@africalics.org
SUMMARY:AfricaLics Network - End of the-Year Celebrations
DESCRIPTION:How to register \n\nIf you are interested in attending the webinar\, please register via this link or get in touch with Yvonne Gitu at Y.Gitu@acts-net.org for more details. \nAfter registering\, you will receive a confirmation email from AfricaLics Zoom account containing information about joining the webinar. Please ensure you add the invitation to your calendar.
URL:https://africalics.org/event/end-of-the-year-celebrations/
LOCATION:Online via Zoom\, Kenya
CATEGORIES:Virtual Events
ATTACH;FMTTYPE=image/jpeg:https://africalics.org/wp-content/uploads/2023/12/Nairobi-Academy.jpg
ORGANIZER;CN="AfricaLics Secretariat":MAILTO:secretariat@africalics.org
END:VEVENT
END:VCALENDAR