BEGIN:VCALENDAR
VERSION:2.0
PRODID:-//AfricaLics - ECPv6.15.20//NONSGML v1.0//EN
CALSCALE:GREGORIAN
METHOD:PUBLISH
X-ORIGINAL-URL:https://africalics.org
X-WR-CALDESC:Events for AfricaLics
REFRESH-INTERVAL;VALUE=DURATION:PT1H
X-Robots-Tag:noindex
X-PUBLISHED-TTL:PT1H
BEGIN:VTIMEZONE
TZID:Africa/Nairobi
BEGIN:STANDARD
TZOFFSETFROM:+0300
TZOFFSETTO:+0300
TZNAME:EAT
DTSTART:20230101T000000
END:STANDARD
END:VTIMEZONE
BEGIN:VEVENT
DTSTART;TZID=Africa/Nairobi:20241107T160000
DTEND;TZID=Africa/Nairobi:20241107T173000
DTSTAMP:20260424T203809
CREATED:20240213T045505Z
LAST-MODIFIED:20240304T073552Z
UID:2622-1730995200-1731000600@africalics.org
SUMMARY:Paradigm transition\, geopolitics and innovation paths: Challenges and Opportunities for Africa
DESCRIPTION:Policy is generally pursued with temporal blinkers – What can we do which builds on what we already have and does not require too great a reframing? \nIn ‘normal times’ building on the past\, adjusting and speeding up\, makes sense. But occasionally the world around us changes in non-marginal ways and this demands a structural reset to policy in general and to innovation trajectories in particular. \nWe are in just such a transitional period now. The mass-production techno-economic paradigm which dominated development strategies over the past 70 years is in crisis. The new ICT paradigm is deploying rapidly. Because it offers both threat and opportunity\, imparting directionality is the critical challenge. \nEach techno-economic paradigm is not just characterised by its core general-purpose ‘heartland’ technology and the accompanying socio-economic order. It also has associated geopolitics which play a major role in the character of global production and trade. So it is that we are witnessing a significant change in the global order\, a transition from a unipolar world dominated by western powers to a world of multipolar hegemony\, with China\, India and other Asian economies playing increasingly important roles in framing directionality and innovation paths. \nIn this context\, what are the implications for more sustainable and equitable growth strategies in Africa \nKeynote speaker \n\nProf. Raphael Kaplinsky \nRaphael Kaplinsky is Honorary Professor at the Science Policy Research Unit\, and is also an Emeritus Professor at the Institute of Development Studies and at the Open University. His primary research interests are in Globalisation\, Global Value Chains\, Inclusive Growth and Inclusive Innovation\, the Terms of Trade and the Impact of the Rising Powers (particularly China) on Sub Saharan Africa\, publishing extensively in all of these fields. Over the past four decades he has worked with policy makers\, the private sector\, trades unions and civil society groups. Since his formal retirement at the end of 2014\, he has begun working on the green economy and urban regeneration in Newhaven and Lewes (towns close to Sussex University)\, and in Greece. \n  \nHow to register \n\nIf you are interested in attending the webinar\, please register via this link or get in touch with Yvonne Gitu at Y.Gitu@acts-net.org for more details. \nAfter registering\, you will receive a confirmation email from AfricaLics Zoom account containing information about joining the webinar. Please ensure you add the invitation to your calendar.
URL:https://africalics.org/event/paradigm-transition-geopolitics-and-innovation-paths-challenges-and-opportunities-for-africa/
LOCATION:Online via Zoom\, Kenya
CATEGORIES:Virtual Events
ORGANIZER;CN="AfricaLics Secretariat":MAILTO:secretariat@africalics.org
END:VEVENT
END:VCALENDAR