BEGIN:VCALENDAR
VERSION:2.0
PRODID:-//AfricaLics - ECPv6.15.20//NONSGML v1.0//EN
CALSCALE:GREGORIAN
METHOD:PUBLISH
X-ORIGINAL-URL:https://africalics.org
X-WR-CALDESC:Events for AfricaLics
REFRESH-INTERVAL;VALUE=DURATION:PT1H
X-Robots-Tag:noindex
X-PUBLISHED-TTL:PT1H
BEGIN:VTIMEZONE
TZID:UTC
BEGIN:STANDARD
TZOFFSETFROM:+0000
TZOFFSETTO:+0000
TZNAME:UTC
DTSTART:20230101T000000
END:STANDARD
END:VTIMEZONE
BEGIN:VEVENT
DTSTART;TZID=UTC:20240905T160000
DTEND;TZID=UTC:20240905T173000
DTSTAMP:20260425T010849
CREATED:20240304T072859Z
LAST-MODIFIED:20240304T073420Z
UID:2698-1725552000-1725557400@africalics.org
SUMMARY:Sectoral systems of innovation. Learnings from South Africa
DESCRIPTION:This webinar examines the evolving nature of research and innovation policy and associated outcomes in South Africa. It critiques research and innovation policy starting at the micro level of the firm\, through to the aggregate level of STI indicators. Four case studies\, each within their own sectoral. The Case studies elicit the nature and origins of four innovations locating these in their respective sectoral systems  according to the Malerba (2002) formulation. SSIs advance the much earlier work of Marshall (Rosenthal and Strange\, 2004) with a more nuanced understanding of innovation\, focusing on specific sectors\, incorporating actors beyond the firm\, the dynamics and trajectories of knowledge flows and institutions in shaping innovation processes. Each case starts with a concise PESTE analysis followed with bibliometric analysis and publication co-authorship\, and patent statistics including patent awards in multiple jurisdictions\, the use of government incentives and the management of intellectual property.  All cases demonstrate high levels of path dependence on the part of one or more of the primary actors. Selection bias acknowledged\, none of the cases arises from the direct intents of STI policy. The cases speak to industry needs rather than government push. Institutions\, including rules\, norms\, and infrastructure\, play a crucial role in shaping innovation patterns within each sector.\n\nKeynote Speaker \n\n\nProf. Michael Kahn\n\nProfessor Michael Kahn is a policy analyst and evaluator in the fields of research and innovation. He has been advisor to the Ministers of Education\, and Science and Technology\, a Chief Director in the Gauteng Provincial Government\, analyst in the Centre for Education Policy Development\, Professor of science education in Botswana and South Africa\, Executive Director of the Human Sciences Research Council and is now Research Fellow in the Centre for Research on Evaluation\, Science and Technology at Stellenbosch University. He is Extraordinary Professor at the University of the Western Cape\, and Professor of Practice of the University of Johannesburg. \nMichael is skilled in policy analysis\, strategic planning\, measurement\, monitoring and evaluation\, foresight and facilitation. His training draws on engineering\, physics and education policy\, including a PhD in Theoretical Physics\, MA in Education Policy\, Planning and Management and BSc (Honours). He consults to governments\, multilateral agencies and the donor community. \n\nHow to register \n\nIf you are interested in attending the webinar\, please register via this link or get in touch with Yvonne Gitu at Y.Gitu@acts-net.org for more details. \nAfter registering\, you will receive a confirmation email from AfricaLics Zoom account containing information about joining the webinar. Please ensure you add the invitation to your calendar.
URL:https://africalics.org/event/sectoral-systems-of-innovation-learnings-from-south-africa/
LOCATION:Online via Zoom\, Kenya
CATEGORIES:Virtual Events,Webinar Series
END:VEVENT
END:VCALENDAR