BEGIN:VCALENDAR
VERSION:2.0
PRODID:-//AfricaLics - ECPv6.15.20//NONSGML v1.0//EN
CALSCALE:GREGORIAN
METHOD:PUBLISH
X-ORIGINAL-URL:https://africalics.org
X-WR-CALDESC:Events for AfricaLics
REFRESH-INTERVAL;VALUE=DURATION:PT1H
X-Robots-Tag:noindex
X-PUBLISHED-TTL:PT1H
BEGIN:VTIMEZONE
TZID:UTC
BEGIN:STANDARD
TZOFFSETFROM:+0000
TZOFFSETTO:+0000
TZNAME:UTC
DTSTART:20240101T000000
END:STANDARD
END:VTIMEZONE
BEGIN:VEVENT
DTSTART;VALUE=DATE:20251125
DTEND;VALUE=DATE:20251129
DTSTAMP:20260424T031536
CREATED:20250226T040501Z
LAST-MODIFIED:20250304T084328Z
UID:4213-1764028800-1764374399@africalics.org
SUMMARY:Globelics International Conference 2025
DESCRIPTION:About Globelics \nThe Global Network for the Economics of Learning\, Innovation\, and Competence Building Systems (Globelics) is the largest global academic community dedicated to innovation and development. Established in 2002\, Globelics provides a platform for South-South knowledge exchange\, and between mature economies and developing nations\, focusing on the role of innovation in fostering social and economic development as well as effective policymaking. Through its annual conferences and regional and national chapters (AfricaLics\, AsiaLics\, LaLics\, EuroLics\, NACLICS\, MEDAlics\, CICALICS\, IndiaLICS and NigeriaLICS)\, Globelics promotes academic collaboration\, learning and the sharing of evidence-based experiences that can inform innovation policies globally. \n\nThe Globelics International Conference 2025 \nThis year’s conference focuses on innovation for sustainable and inclusive development to build resilience in the context of growing inequality\, climate change and geopolitical disruptions\, particularly as they affect developing nations. Against the backdrop of South Africa’s G20 presidency\, the Globelics conference serves as a crucial intellectual forum that aligns with and reinforces the G20 objectives. Both platforms emphasise the transformative power of innovation in addressing global challenges by promoting collaborative innovation policies that prioritise inclusivity and sustainability. The conference will draw from the G20 discussion and contribute insights and recommendations that can shape the leadership role of Africa and the Global South on the world stage\, ensuring that the voices of developing nations are amplified in the G20’s decisions and outcomes. \nThis year’s conference is organised by a consortium of Globelics members in South Africa\, co-hosted by South Africa’s National Research Foundation\, and the DSI/NRF Trilateral Chair in Transformative Innovation\, the 4IR and Sustainable Development (University of Johannesburg)\, with partners in Tshwane University of Technology\, the University of Witwatersrand\, and the Human Sciences Research Council. \n\nConference Themes \nThe conference welcomes papers that connect innovation efforts to sustainable and inclusive development objectives. Suggested themes and sub-themes include: \n1) Innovation and Inequality Reduction \n\nInnovation systems addressing socio-economic disparities\nInnovation in\, for and by marginalised communities\nIndigenous knowledge\, informal sector\, innovation and development\nGender\, innovation and development\nSkilled migration\, brain drain and innovation\n\n2) Climate Crisis and Sustainable Innovation \n\nInnovation as a tool for climate adaptation and mitigation\nPolicy strategies for fostering green innovation\nInnovation\, sustainable development and energy in the South\n\n3) Geopolitical Disruptions and Resilient Innovation Systems \n\nInnovation system responses to global instability\nRegional collaboration to strengthen innovation and resilience\nInstitutional frameworks for multistakeholder engagement\n\n4) Digital Transformation and Data Infrastructure \n\nDigital innovation and marginalised communities\nCase studies of digital transformation in developing regions\nDigital technologies for the green transition in developing countries\n\n5) Innovation Policy for Global Development Goals \n\nReflexive governance and policy experimentation for innovation\nPublic-private partnerships for innovation\nScience\, technology and innovation policy and politics\n\n6) Multi-level innovation systems \n\nTechnological systems\, learning and innovation\nSectoral innovation systems\, industrial policy and development\nTechnological infrastructure and technological capabilities\nNational\, regional and local innovation systems\nUniversity relationships with industry and society: the developmental university\n\n7) Innovation and capabilities in firms and economies \n\nWork organisation\, education and economic development\nTrade\, FDI\, value chains and global innovation networks\nInnovation\, growth and catching up\nOrganisational learning\, firm capabilities\nInnovation management and entrepreneurship\n\n8) Theoretical and methodological advances in Innovation & Development Studies \n\nEmpirical methodologies\, data requirements\, indicators\, different approaches and methodologies\nNew methods in Innovation & Development\nTheoretical developments in innovation studies\n\n\n\n\n\n\n\nSubmission Guidelines \n\n\n\n\nSubmissions for oral presentations\, special sessions\, and poster presentations must align with conference themes. Papers should not exceed 8\,000 words and must be in English. \nFor more information about submission guidelines please visit the page. \n\n\n\n\n\n\n\n\n\n\n\n\n\n\n\nConference Fees \nConference fees vary by country classification and participant type. Accepted paper presenters receive accommodation support. More information about conference fees and coverage. \n\n\n\n\n\n\nKey Dates: \n\nSubmission deadline: 16th May 2025\nNotification of acceptance: 20th June 2025\nConfirmation of travel arrangements by the participants: 1st October 2025\n\n\n\n\n\n\n\nContact and more information \nFor more details contact Globelics2025@uj.ac.za \n\n\nDownload \n\nCall for papers – Globelics International Conference 2025
URL:https://africalics.org/event/globelics-international-conference-2025/
LOCATION:National Research Foundation\, Pretoria\, South Africa
CATEGORIES:Conferences,Virtual Events
END:VEVENT
END:VCALENDAR